BEGIN:VCALENDAR
VERSION:2.0
PRODID:25 de ABRIL – 52.º ANIVERSÁRIO DO DIA DA LIBERDADE
X-WR-CALNAME:25 de ABRIL – 52.º ANIVERSÁRIO DO DIA DA LIBERDADE
X-WR-TIMEZONE:Europe/Lisbon
X-PUBLISHED-TTL:P1W
BEGIN:VTIMEZONE
TZID:Europe/Lisbon
X-LIC-LOCATION:Europe/Lisbon
END:VTIMEZONE
BEGIN:VEVENT
UID:69e8b6aab28a9
DTSTART;VALUE=DATE:20260425
SEQUENCE:0
TRANSP:OPAQUE
DTEND;VALUE=DATE:20260426
SUMMARY:25 de ABRIL – 52.º ANIVERSÁRIO DO DIA DA LIBERDADE
CLASS:PUBLIC
DESCRIPTION:25 de ABRIL – 52.º ANIVERSÁRIO DO DIA DA LIBERDADE Freguesi
 a da CarregueiraO Presidente da Assembleia de Freguesia da Carregueira\, R
 ui Miguel\, convida toda a população a participar nas cerimónias e ativ
 idades evocativas do 25 de Abril.Programa:&nbsp\;9h00 – Passeio de Paste
 leiras(concentração junto ao Edifício “Os Unidos” – organização
 : RFEIC)10h00 – Hastear da Bandeira(Zona Verde da Carregueira)10h10 – 
 Assembleia de Freguesia Evocativa do 52.º Aniversário do Dia da Liberdad
 e(Zona Verde da Carregueira)15h30 – Festival de Folclore(organização: 
 RFEIC)Venha celebrar connosco os valores de Abril – liberdade\, democrac
 ia e união.A sua presença é o nosso maior reconhecimento.Juntos\, honra
 mos a memória e construímos o futuro.Rui MiguelPresidente da Assembleia 
 de Freguesia da Carregueira
X-MICROSOFT-CDO-ALLDAYEVENT:TRUE
DTSTAMP:20260422T115314Z
END:VEVENT
END:VCALENDAR